BEGIN:VCALENDAR
VERSION:2.0
PRODID:-//Tankesmedjan Futurion - ECPv5.6.0//NONSGML v1.0//EN
CALSCALE:GREGORIAN
METHOD:PUBLISH
X-WR-CALNAME:Tankesmedjan Futurion
X-ORIGINAL-URL:https://futurion.se
X-WR-CALDESC:Events for Tankesmedjan Futurion
BEGIN:VTIMEZONE
TZID:Europe/Stockholm
BEGIN:DAYLIGHT
TZOFFSETFROM:+0100
TZOFFSETTO:+0200
TZNAME:CEST
DTSTART:20220327T010000
END:DAYLIGHT
BEGIN:STANDARD
TZOFFSETFROM:+0200
TZOFFSETTO:+0100
TZNAME:CET
DTSTART:20221030T010000
END:STANDARD
END:VTIMEZONE
BEGIN:VEVENT
DTSTART;TZID=Europe/Stockholm:20220126T130000
DTEND;TZID=Europe/Stockholm:20220126T140000
DTSTAMP:20260420T220558
CREATED:20220118T094423Z
LAST-MODIFIED:20220125T092245Z
UID:12326-1643202000-1643205600@futurion.se
SUMMARY:Webbinarium: När kommer vi gå till jobbet i metaverse?
DESCRIPTION:I höstas meddelade Facebook att företaget byter namn till Meta och tänker storsatsa på att göra verklighet av metaverse – en digital 3D-värld där vi kommer att kunna spela\, shoppa\, arbeta och få kulturupplevelser i virtuell skepnad. \nVisionen om metaverse är ett helt omformat internet\, med större likheter med den verkliga världen\, som vi kan delta i med digitala versioner av oss själva. Kanske den naturliga fortsättningen på digitaliseringen? Många av oss har redan vant oss vid att ta del av sport och kultur\, shopping och gaming genom digitala upplevelser. \nÄr det en visionär dröm eller är vi mogna för detta steg efter två år av social distansering och ökad digital vana? Kommer vi gå till jobbet i metaverse inom några år? Vilka nya kompetenser och yrken kommer att spira? Hur balanserar vi det gränslösa arbetslivet när jobb\, konserter och vänner blir sömlöst? Och drar integriteten sin sista suck?\nVälkommen på ett samtal om vad metaverse kommer att innebära för framtidens arbetsliv! \nVälkommen till ett samtal om vad den nya VR- och AR tekniken kan medföra på kort och lång sikt för våra liv och jobb. \nMedverkande: \nJan Elvelid\, Head of Policy Sweden & Finland\nKatarina Andersson\, techjournalist\nMax Horttanainen\, ordförande Sverok\nSamtalsledare: Ann-Therése Enarsson\, vd Futurion \nTid: 26 januari\, kl 13-14\nPlats: Zoom\, länk kommer efter anmälan \nAnmälan görs till seminarium@futurion.se
URL:https://futurion.se/event/webbinarium-metaverse-var-nya-virtuella-arbetsplats/
LOCATION:Webinar via Zoom
ATTACH;FMTTYPE=image/png:https://futurion.se/wp-content/uploads/2022/01/lagg-till-en-rubrik-1080-x-1080-px-4.png
END:VEVENT
END:VCALENDAR