BEGIN:VCALENDAR
VERSION:2.0
PRODID:-//Tankesmedjan Futurion - ECPv5.6.0//NONSGML v1.0//EN
CALSCALE:GREGORIAN
METHOD:PUBLISH
X-WR-CALNAME:Tankesmedjan Futurion
X-ORIGINAL-URL:https://futurion.se
X-WR-CALDESC:Events for Tankesmedjan Futurion
BEGIN:VTIMEZONE
TZID:Europe/Stockholm
BEGIN:DAYLIGHT
TZOFFSETFROM:+0100
TZOFFSETTO:+0200
TZNAME:CEST
DTSTART:20200329T010000
END:DAYLIGHT
BEGIN:STANDARD
TZOFFSETFROM:+0200
TZOFFSETTO:+0100
TZNAME:CET
DTSTART:20201025T010000
END:STANDARD
END:VTIMEZONE
BEGIN:VEVENT
DTSTART;VALUE=DATE:20200508
DTEND;VALUE=DATE:20200509
DTSTAMP:20260426T005415
CREATED:20200217T162814Z
LAST-MODIFIED:20200331T100636Z
UID:10035-1588896000-1588982399@futurion.se
SUMMARY:Lärarförbundets chefsdagar\, Stockholm
DESCRIPTION:Carl Melin medverkar på Lärarförbundets chefsdagar och föreläser om framtidens fack.
URL:https://futurion.se/event/lararforbundets-chefsdagar-stockholm/
END:VEVENT
END:VCALENDAR