BEGIN:VCALENDAR
VERSION:2.0
PRODID:-//Tankesmedjan Futurion - ECPv5.6.0//NONSGML v1.0//EN
CALSCALE:GREGORIAN
METHOD:PUBLISH
X-WR-CALNAME:Tankesmedjan Futurion
X-ORIGINAL-URL:https://futurion.se
X-WR-CALDESC:Events for Tankesmedjan Futurion
BEGIN:VTIMEZONE
TZID:Europe/Stockholm
BEGIN:DAYLIGHT
TZOFFSETFROM:+0100
TZOFFSETTO:+0200
TZNAME:CEST
DTSTART:20210328T010000
END:DAYLIGHT
BEGIN:STANDARD
TZOFFSETFROM:+0200
TZOFFSETTO:+0100
TZNAME:CET
DTSTART:20211031T010000
END:STANDARD
END:VTIMEZONE
BEGIN:VEVENT
DTSTART;TZID=Europe/Stockholm:20211122T090000
DTEND;TZID=Europe/Stockholm:20211122T151500
DTSTAMP:20260421T002012
CREATED:20210916T150428Z
LAST-MODIFIED:20210916T150643Z
UID:12116-1637571600-1637594100@futurion.se
SUMMARY:Internetdagarna: Framtidens arbetsliv – hybrider\, gig och distans
DESCRIPTION:Futurion medverkar i temaspåret ”Framtidens arbetsliv” tillsammans med Svenska nomader under Internetdagarna som arrangeras av Internetstiftelsen 22-23 november. \nLäs mer här.
URL:https://futurion.se/event/internetdagarna-framtidens-arbetsliv/
END:VEVENT
END:VCALENDAR