BEGIN:VCALENDAR
VERSION:2.0
PRODID:-//Tankesmedjan Futurion - ECPv5.6.0//NONSGML v1.0//EN
CALSCALE:GREGORIAN
METHOD:PUBLISH
X-WR-CALNAME:Tankesmedjan Futurion
X-ORIGINAL-URL:https://futurion.se
X-WR-CALDESC:Events for Tankesmedjan Futurion
BEGIN:VTIMEZONE
TZID:Europe/Stockholm
BEGIN:DAYLIGHT
TZOFFSETFROM:+0100
TZOFFSETTO:+0200
TZNAME:CEST
DTSTART:20200329T010000
END:DAYLIGHT
BEGIN:STANDARD
TZOFFSETFROM:+0200
TZOFFSETTO:+0100
TZNAME:CET
DTSTART:20201025T010000
END:STANDARD
END:VTIMEZONE
BEGIN:VEVENT
DTSTART;TZID=Europe/Stockholm:20200911T080000
DTEND;TZID=Europe/Stockholm:20200911T170000
DTSTAMP:20260426T053552
CREATED:20200811T111523Z
LAST-MODIFIED:20200811T111523Z
UID:10510-1599811200-1599843600@futurion.se
SUMMARY:Hela Sverige Samlas\, onlinekonferens
DESCRIPTION:Futurions vd Ann-Therese Enarsson är en av talarna på onlinekonferensen Hela Sverige Samlas\, där hon talar under rubriken ”Vad händer när chefen blir en app?”. \nProgram\, detaljer och anmälan: www.helasverigesamlas.se
URL:https://futurion.se/event/hela-sverige-samlas-onlinekonferens/
END:VEVENT
END:VCALENDAR