BEGIN:VCALENDAR
VERSION:2.0
PRODID:-//Tankesmedjan Futurion - ECPv5.6.0//NONSGML v1.0//EN
CALSCALE:GREGORIAN
METHOD:PUBLISH
X-WR-CALNAME:Tankesmedjan Futurion
X-ORIGINAL-URL:https://futurion.se
X-WR-CALDESC:Events for Tankesmedjan Futurion
BEGIN:VTIMEZONE
TZID:Europe/Stockholm
BEGIN:DAYLIGHT
TZOFFSETFROM:+0100
TZOFFSETTO:+0200
TZNAME:CEST
DTSTART:20260329T010000
END:DAYLIGHT
BEGIN:STANDARD
TZOFFSETFROM:+0200
TZOFFSETTO:+0100
TZNAME:CET
DTSTART:20261025T010000
END:STANDARD
END:VTIMEZONE
BEGIN:VEVENT
DTSTART;VALUE=DATE:20260622
DTEND;VALUE=DATE:20260627
DTSTAMP:20260424T234540
CREATED:20260424T134725Z
LAST-MODIFIED:20260424T135514Z
UID:16714-1782086400-1782518399@futurion.se
SUMMARY:Futurion i Almedalen 2026
DESCRIPTION:Futurion kommer att vara på plats under Almedalsveckan. Mer info om deltagandet kommer. \n\nVill ni göra något ihop i Almedalen? Hör av dig till info@futurion.se.
URL:https://futurion.se/event/futurion-i-almedalen-2026/
END:VEVENT
END:VCALENDAR