BEGIN:VCALENDAR
VERSION:2.0
PRODID:-//Tankesmedjan Futurion - ECPv5.6.0//NONSGML v1.0//EN
CALSCALE:GREGORIAN
METHOD:PUBLISH
X-WR-CALNAME:Tankesmedjan Futurion
X-ORIGINAL-URL:https://futurion.se
X-WR-CALDESC:Events for Tankesmedjan Futurion
BEGIN:VTIMEZONE
TZID:Europe/Stockholm
BEGIN:DAYLIGHT
TZOFFSETFROM:+0100
TZOFFSETTO:+0200
TZNAME:CEST
DTSTART:20170326T010000
END:DAYLIGHT
BEGIN:STANDARD
TZOFFSETFROM:+0200
TZOFFSETTO:+0100
TZNAME:CET
DTSTART:20171029T010000
END:STANDARD
END:VTIMEZONE
BEGIN:VEVENT
DTSTART;TZID=Europe/Stockholm:20170328T133000
DTEND;TZID=Europe/Stockholm:20170328T150000
DTSTAMP:20260420T104327
CREATED:20170327T094404Z
LAST-MODIFIED:20170327T094404Z
UID:3339-1490707800-1490713200@futurion.se
SUMMARY:Framtidens utmaningar i arbetslivet
DESCRIPTION:  \nKan fler robotar och en ökad automatisering i själva verket leda till att vi får ett mänskligare arbetsliv? En arbetsmarknad där vi människor får utnyttja våra komparativa fördelar gentemot maskinerna och odla våra genuint mänskliga färdigheter? \nEtt digitaliserat arbetsliv visar att det inte är någonting nytt att monotona jobb automatiseras. Om maskinerna både kan lära sig själva\, och att tänka och att känna – vad blir då kvar för oss människor? \nLunchföreläsning med Per Lagerström\, Futurion.
URL:https://futurion.se/event/framtidens-utmaningar-i-arbetslivet/
LOCATION:Stadshotellet i Skellefteå
END:VEVENT
END:VCALENDAR