BEGIN:VCALENDAR
VERSION:2.0
PRODID:-//Tankesmedjan Futurion - ECPv5.6.0//NONSGML v1.0//EN
CALSCALE:GREGORIAN
METHOD:PUBLISH
X-WR-CALNAME:Tankesmedjan Futurion
X-ORIGINAL-URL:https://futurion.se
X-WR-CALDESC:Events for Tankesmedjan Futurion
BEGIN:VTIMEZONE
TZID:Europe/Stockholm
BEGIN:DAYLIGHT
TZOFFSETFROM:+0100
TZOFFSETTO:+0200
TZNAME:CEST
DTSTART:20200329T010000
END:DAYLIGHT
BEGIN:STANDARD
TZOFFSETFROM:+0200
TZOFFSETTO:+0100
TZNAME:CET
DTSTART:20201025T010000
END:STANDARD
END:VTIMEZONE
BEGIN:VEVENT
DTSTART;VALUE=DATE:20200429
DTEND;VALUE=DATE:20200430
DTSTAMP:20260425T232522
CREATED:20200217T163815Z
LAST-MODIFIED:20200217T163815Z
UID:10041-1588118400-1588204799@futurion.se
SUMMARY:Förbundskonferens\, TCO\, Nacka
DESCRIPTION:Futurion deltar och visionerar på TCO:s förbundskonferens i Nacka om framtidens fackliga utmaningar och möjligheter.
URL:https://futurion.se/event/forbundskonferens-tco-nacka/
END:VEVENT
END:VCALENDAR