BEGIN:VCALENDAR
VERSION:2.0
PRODID:-//Tankesmedjan Futurion - ECPv5.6.0//NONSGML v1.0//EN
CALSCALE:GREGORIAN
METHOD:PUBLISH
X-WR-CALNAME:Tankesmedjan Futurion
X-ORIGINAL-URL:https://futurion.se
X-WR-CALDESC:Events for Tankesmedjan Futurion
BEGIN:VTIMEZONE
TZID:Europe/Stockholm
BEGIN:DAYLIGHT
TZOFFSETFROM:+0100
TZOFFSETTO:+0200
TZNAME:CEST
DTSTART:20200329T010000
END:DAYLIGHT
BEGIN:STANDARD
TZOFFSETFROM:+0200
TZOFFSETTO:+0100
TZNAME:CET
DTSTART:20201025T010000
END:STANDARD
END:VTIMEZONE
BEGIN:VEVENT
DTSTART;VALUE=DATE:20200310
DTEND;VALUE=DATE:20200312
DTSTAMP:20260425T193026
CREATED:20200217T162308Z
LAST-MODIFIED:20200217T162308Z
UID:10031-1583881200-1583967599@futurion.se
SUMMARY:Drivkraft Väst\, Arvika
DESCRIPTION:Futurions vd\, Ann-Therese Enarsson\, medverkar vid Drivkraft Väst och föreläser om arbetslivet i förändring. \nDetta är ett samarbetsprojekt mellan Arvika Näringslivscentrum och Volvo CE.
URL:https://futurion.se/event/drivkraft-vast-arvika/
END:VEVENT
END:VCALENDAR