BEGIN:VCALENDAR
VERSION:2.0
PRODID:-//Tankesmedjan Futurion - ECPv5.6.0//NONSGML v1.0//EN
CALSCALE:GREGORIAN
METHOD:PUBLISH
X-WR-CALNAME:Tankesmedjan Futurion
X-ORIGINAL-URL:https://futurion.se
X-WR-CALDESC:Events for Tankesmedjan Futurion
BEGIN:VTIMEZONE
TZID:Europe/Stockholm
BEGIN:DAYLIGHT
TZOFFSETFROM:+0100
TZOFFSETTO:+0200
TZNAME:CEST
DTSTART:20240331T010000
END:DAYLIGHT
BEGIN:STANDARD
TZOFFSETFROM:+0200
TZOFFSETTO:+0100
TZNAME:CET
DTSTART:20241027T010000
END:STANDARD
END:VTIMEZONE
BEGIN:VEVENT
DTSTART;TZID=Europe/Stockholm:20240627T120000
DTEND;TZID=Europe/Stockholm:20240627T124500
DTSTAMP:20260422T224507
CREATED:20240619T113910Z
LAST-MODIFIED:20240619T130342Z
UID:13610-1719489600-1719492300@futurion.se
SUMMARY:Almedalen: Generation Genväg – hur ska arbetsgivare och fack förhålla sig till en ny ungdomsgeneration?
DESCRIPTION:  \n\nGeneration Genväg – hur ska arbetsgivare och fack förhålla sig till en ny ungdomsgeneration?\nEn ny ungdomsgeneration börjar ge sig till känna efter Millenials och Generation Z. En generation som värderar det materiella – pengar och status – samtidigt som den vill ha balans mellan arbete och fritid och ha tid att fokusera på sin hälsa. Är arbetsmarknaden redo? \nDe senaste ungdomsgenerationerna har beskrivits som intresserade och engagerade i samhällsfrågor och fokuserade på mening och balans i synen på arbetslivet. Nu syns tecken på att en ny ungdomsgeneration är på väg att växa fram med andra värderingar än de tidigare. Den nya ungdomsgeneration värderar pengar och status på ett sätt som tidigare ungdomsgenerationer inte riktigt gjort. Samtidigt eftersträvar de balans mellan arbete och fritid och vill inte ha för höga krav. Förväntningar som tycks svåra att få ihop. Kanske hittar de en genväg? Med utgångspunkt i rapporten ”Generation Genväg” beskrivs den kommande ungdomsgenerationen. \nMedverkande:\nNoura Berrouba\, ordförande\, LSU\nDalia Eid\, vice ordförande\, Vision\nHenric Byström\, kommunikationschef\, Max Hamburgare\nAnn-Therése Enarsson\, vd\, Tankesmedjan Futurion\nAnton Landehag\, samhällsanalytiker\, Tankesmedjan Futurion \nVälkomna torsdag den 27 juni\nkl 12:00-12:45\nTCO-landet\, Lilla scenen\nStrandgatan 19\, Visby\nArrangör: Futurion\nLättare lunch ingår. \n\n 
URL:https://futurion.se/event/almedalen-generation-genvag-hur-ska-arbetsgivare-och-fack-forhalla-sig-till-en-ny-ungdomsgeneration/
LOCATION:Almedalen\, Visby\, Sverige
END:VEVENT
END:VCALENDAR