BEGIN:VCALENDAR
VERSION:2.0
PRODID:-//Tankesmedjan Futurion - ECPv5.6.0//NONSGML v1.0//EN
CALSCALE:GREGORIAN
METHOD:PUBLISH
X-WR-CALNAME:Tankesmedjan Futurion
X-ORIGINAL-URL:https://futurion.se
X-WR-CALDESC:Events for Tankesmedjan Futurion
BEGIN:VTIMEZONE
TZID:Europe/Stockholm
BEGIN:DAYLIGHT
TZOFFSETFROM:+0100
TZOFFSETTO:+0200
TZNAME:CEST
DTSTART:20240331T010000
END:DAYLIGHT
BEGIN:STANDARD
TZOFFSETFROM:+0200
TZOFFSETTO:+0100
TZNAME:CET
DTSTART:20241027T010000
END:STANDARD
END:VTIMEZONE
BEGIN:VEVENT
DTSTART;TZID=Europe/Stockholm:20240625T140000
DTEND;TZID=Europe/Stockholm:20240625T144500
DTSTAMP:20260422T211159
CREATED:20240619T113811Z
LAST-MODIFIED:20240619T130425Z
UID:13607-1719324000-1719326700@futurion.se
SUMMARY:Almedalen: AI-revolutionen – hur framtidssäkrar vi Sveriges konkurrenskraft?
DESCRIPTION:AI-revolutionen – hur framtidssäkrar vi Sveriges konkurrenskraft?\nAI-revolutionen innebär stora utmaningar och möjligheter för såväl företag som individ. En lyckad omställning är central för att svensk konkurrenskraft ska bevaras och stärkas. Hur framtidssäkrar vi svensk konkurrenskraft?\n\nSverige har framgångsrikt lyckats genomföra strukturomvandlingar historiskt. Digitaliseringen beskrivs ofta som en framgång. AI kommer innebära omfattande förändringar för näringslivets förutsättningar likväl som för individens möjligheter på arbetsmarknaden. Hur säkerställer vi att AI-revolutionen nyttjas för att stärka snarare än försvaga Sveriges konkurrenskraft? Vilka är de nödvändiga reformerna? Hur bör parterna agera? Hur kan företagen nyttja möjligheterna och hantera riskerna detta medför?\n\nDeltagare:\nPeter Hellberg\, förbundsordförande\, Unionen\nSara Övreby\, Public Policy and Government Relations Manager\, Google\nNiels Paarup-Petersen\, riksdagsledamot\, Centerpartiet\nAnn-Therése Enarsson\, vd Futurion\nAnton Landehag\, samtalsledare\, Tankesmedjan Futurion\n\nVälkomna tisdag den 25 juni\nkl 14:00-14:45\nTCO-landet\, Stora scenen\nStrandgatan 19\, Visby\nArrangör: Futurion
URL:https://futurion.se/event/almedalen-ai-revolutionen-hur-framtidssakrar-vi-sveriges-konkurrenskraft/
LOCATION:Almedalen\, Visby\, Sverige
END:VEVENT
END:VCALENDAR