BEGIN:VCALENDAR
VERSION:2.0
PRODID:-//Tankesmedjan Futurion - ECPv5.6.0//NONSGML v1.0//EN
CALSCALE:GREGORIAN
METHOD:PUBLISH
X-WR-CALNAME:Tankesmedjan Futurion
X-ORIGINAL-URL:https://futurion.se
X-WR-CALDESC:Events for Tankesmedjan Futurion
BEGIN:VTIMEZONE
TZID:Europe/Stockholm
BEGIN:DAYLIGHT
TZOFFSETFROM:+0100
TZOFFSETTO:+0200
TZNAME:CEST
DTSTART:20240331T010000
END:DAYLIGHT
BEGIN:STANDARD
TZOFFSETFROM:+0200
TZOFFSETTO:+0100
TZNAME:CET
DTSTART:20241027T010000
END:STANDARD
END:VTIMEZONE
BEGIN:VEVENT
DTSTART;VALUE=DATE:20240410
DTEND;VALUE=DATE:20240411
DTSTAMP:20260420T104622
CREATED:20240325T131433Z
LAST-MODIFIED:20240325T131433Z
UID:13455-1712707200-1712793599@futurion.se
SUMMARY:AI & jobben
DESCRIPTION:Futurions vd Ann-Therése Enarsson föreläser hos Volvo GTO i Skövde.
URL:https://futurion.se/event/ai-jobben/
END:VEVENT
END:VCALENDAR